BEGIN:VCALENDAR
VERSION:2.0
PRODID:-//wp-events-plugin.com//7.2.3.1//EN
TZID:Europe/Berlin
X-WR-TIMEZONE:Europe/Berlin
BEGIN:VEVENT
UID:1@xn--haus-der-mglichkeiten-qec.de
DTSTART;TZID=Europe/Berlin:20260320T180000
DTEND;TZID=Europe/Berlin:20260320T191500
DTSTAMP:20260305T170840Z
URL:https://xn--haus-der-mglichkeiten-qec.de/events/eine-testveranstaltung
 /
SUMMARY:Eine Testveranstaltung
DESCRIPTION:Und eine Erklöärung dazu
LOCATION:Haus der Möglichkeiten\, Eichenhof 6\, Leegebruch\, 16767\, Deuts
 chland
X-APPLE-STRUCTURED-LOCATION;VALUE=URI;X-ADDRESS=Eichenhof 6\, Leegebruch\, 
 16767\, Deutschland;X-APPLE-RADIUS=100;X-TITLE=Haus der Möglichkeiten:geo
 :0,0
END:VEVENT
BEGIN:VTIMEZONE
TZID:Europe/Berlin
X-LIC-LOCATION:Europe/Berlin
BEGIN:STANDARD
DTSTART:20251026T020000
TZOFFSETFROM:+0200
TZOFFSETTO:+0100
TZNAME:CET
END:STANDARD
END:VTIMEZONE
END:VCALENDAR